BEGIN:VCALENDAR
VERSION:2.0
PRODID:-//Peotone Library - ECPv6.15.14//NONSGML v1.0//EN
CALSCALE:GREGORIAN
METHOD:PUBLISH
X-WR-CALNAME:Peotone Library
X-ORIGINAL-URL:https://www.peotonelibrary.org
X-WR-CALDESC:Events for Peotone Library
REFRESH-INTERVAL;VALUE=DURATION:PT1H
X-Robots-Tag:noindex
X-PUBLISHED-TTL:PT1H
BEGIN:VTIMEZONE
TZID:America/Chicago
BEGIN:DAYLIGHT
TZOFFSETFROM:-0600
TZOFFSETTO:-0500
TZNAME:CDT
DTSTART:20250309T080000
END:DAYLIGHT
BEGIN:STANDARD
TZOFFSETFROM:-0500
TZOFFSETTO:-0600
TZNAME:CST
DTSTART:20251102T070000
END:STANDARD
BEGIN:DAYLIGHT
TZOFFSETFROM:-0600
TZOFFSETTO:-0500
TZNAME:CDT
DTSTART:20260308T080000
END:DAYLIGHT
BEGIN:STANDARD
TZOFFSETFROM:-0500
TZOFFSETTO:-0600
TZNAME:CST
DTSTART:20261101T070000
END:STANDARD
BEGIN:DAYLIGHT
TZOFFSETFROM:-0600
TZOFFSETTO:-0500
TZNAME:CDT
DTSTART:20270314T080000
END:DAYLIGHT
BEGIN:STANDARD
TZOFFSETFROM:-0500
TZOFFSETTO:-0600
TZNAME:CST
DTSTART:20271107T070000
END:STANDARD
END:VTIMEZONE
BEGIN:VEVENT
DTSTART;TZID=America/Chicago:20260422T103000
DTEND;TZID=America/Chicago:20260422T110000
DTSTAMP:20260422T053725
CREATED:20260121T220104Z
LAST-MODIFIED:20260310T154227Z
UID:20256-1776853800-1776855600@www.peotonelibrary.org
SUMMARY:Little Learners Storytime\, ages 0-5
DESCRIPTION:Accessible Menu\n			\n			\n				Menu\n						\n							\n					\n						Peotone PublicLibrary District					\n							\n					\n						\n								\n					\n						Programs					\n							\n							\n					\n						May Newsletter					\n							\n					\n						\n								\n					\n						April Newsletter					\n							\n					\n						\n								\n					\n						Maker Space					\n							\n					\n						\n						\n						\n								\n					\n						Resources					\n							\n					\n						\n								\n					\n						About					\n							\n							\n					\n						Friends of the Library					\n							\n					\n						\n								\n					\n						Minutes & Agendas					\n							\n					\n						\n								\n					\n						Policies					\n							\n					\n						\n						\n						\n								\n					\n						Contact					\n							\n					\n						\n								\n					\n						Login					\n							\n					\n						\n						\n					\n			Read stories\, sing songs and move at this storytime for ages 0-5. Registration is required. Please register each child individually. Accompanying adults do not need to register.
URL:https://www.peotonelibrary.org/event/little-learners-storytime-ages-0-5-6-2026-04-22/
LOCATION:Peotone Public Library\, 515 North First Street\, Peotone\, IL\, 60468\, United States
CATEGORIES:Kids
ORGANIZER;CN="Youth Services Department":MAILTO:information@peotonelibrary.org
END:VEVENT
BEGIN:VEVENT
DTSTART;TZID=America/Chicago:20260422T110000
DTEND;TZID=America/Chicago:20260422T113000
DTSTAMP:20260422T053725
CREATED:20250904T172802Z
LAST-MODIFIED:20250904T172802Z
UID:21154-1776855600-1776857400@www.peotonelibrary.org
SUMMARY:Computer Basics One-on-One
DESCRIPTION:Accessible Menu\n			\n			\n				Menu\n						\n							\n					\n						Peotone PublicLibrary District					\n							\n					\n						\n								\n					\n						Programs					\n							\n							\n					\n						May Newsletter					\n							\n					\n						\n								\n					\n						April Newsletter					\n							\n					\n						\n								\n					\n						Maker Space					\n							\n					\n						\n						\n						\n								\n					\n						Resources					\n							\n					\n						\n								\n					\n						About					\n							\n							\n					\n						Friends of the Library					\n							\n					\n						\n								\n					\n						Minutes & Agendas					\n							\n					\n						\n								\n					\n						Policies					\n							\n					\n						\n						\n						\n								\n					\n						Contact					\n							\n					\n						\n								\n					\n						Login					\n							\n					\n						\n						\n					\n			A library staff member will devote a 30 minute time slot  on Wednesdays 11 am – 11:30 am to help with your computer needs. It can be help with the basics of the computer\, setting up your email account and sending attachments\,  learning how to use the Internet or a Word Document; you decide! \n*The library does not diagnosis or repair electronics
URL:https://www.peotonelibrary.org/event/computer-basics-one-on-one-57/2026-04-22/
LOCATION:Peotone Public Library\, 515 North First Street\, Peotone\, IL\, 60468\, United States
CATEGORIES:Adult
ORGANIZER;CN="Adult Services Department":MAILTO:information@peotonelibrary.org
END:VEVENT
BEGIN:VEVENT
DTSTART;TZID=America/Chicago:20260422T180000
DTEND;TZID=America/Chicago:20260422T200000
DTSTAMP:20260422T053725
CREATED:20260114T194704Z
LAST-MODIFIED:20260114T194704Z
UID:22348-1776880800-1776888000@www.peotonelibrary.org
SUMMARY:In Stitches: Stitch Club
DESCRIPTION:Accessible Menu\n			\n			\n				Menu\n						\n							\n					\n						Peotone PublicLibrary District					\n							\n					\n						\n								\n					\n						Programs					\n							\n							\n					\n						May Newsletter					\n							\n					\n						\n								\n					\n						April Newsletter					\n							\n					\n						\n								\n					\n						Maker Space					\n							\n					\n						\n						\n						\n								\n					\n						Resources					\n							\n					\n						\n								\n					\n						About					\n							\n							\n					\n						Friends of the Library					\n							\n					\n						\n								\n					\n						Minutes & Agendas					\n							\n					\n						\n								\n					\n						Policies					\n							\n					\n						\n						\n						\n								\n					\n						Contact					\n							\n					\n						\n								\n					\n						Login					\n							\n					\n						\n						\n					\n			Crochet\, knit\, sew? Quilt? Embroider? Any and all stitchers welcome to bring your projects and learn with one another. No expertise needed\, all levels welcome. No instructor on hand for regular meetings but plenty of people who love to craft. All ages welcome.  No registration required.
URL:https://www.peotonelibrary.org/event/in-stitches-stitch-club-5/2026-04-22/
LOCATION:Heritage Center Monee\, 5210 W Court Street\, Monee\, IL
CATEGORIES:Adults and Teens,Community
ORGANIZER;CN="Peotone Public Library District":MAILTO:information@peotonelibrary.org
END:VEVENT
END:VCALENDAR